BEGIN:VCALENDAR
VERSION:2.0
PRODID:-//Kleinhans Music Hall - ECPv6.15.20//NONSGML v1.0//EN
CALSCALE:GREGORIAN
METHOD:PUBLISH
X-ORIGINAL-URL:https://kleinhansbuffalo.org
X-WR-CALDESC:Events for Kleinhans Music Hall
REFRESH-INTERVAL;VALUE=DURATION:PT1H
X-Robots-Tag:noindex
X-PUBLISHED-TTL:PT1H
BEGIN:VTIMEZONE
TZID:America/New_York
BEGIN:DAYLIGHT
TZOFFSETFROM:-0500
TZOFFSETTO:-0400
TZNAME:EDT
DTSTART:20180311T070000
END:DAYLIGHT
BEGIN:STANDARD
TZOFFSETFROM:-0400
TZOFFSETTO:-0500
TZNAME:EST
DTSTART:20181104T060000
END:STANDARD
BEGIN:DAYLIGHT
TZOFFSETFROM:-0500
TZOFFSETTO:-0400
TZNAME:EDT
DTSTART:20190310T070000
END:DAYLIGHT
BEGIN:STANDARD
TZOFFSETFROM:-0400
TZOFFSETTO:-0500
TZNAME:EST
DTSTART:20191103T060000
END:STANDARD
BEGIN:DAYLIGHT
TZOFFSETFROM:-0500
TZOFFSETTO:-0400
TZNAME:EDT
DTSTART:20200308T070000
END:DAYLIGHT
BEGIN:STANDARD
TZOFFSETFROM:-0400
TZOFFSETTO:-0500
TZNAME:EST
DTSTART:20201101T060000
END:STANDARD
END:VTIMEZONE
BEGIN:VEVENT
DTSTART;TZID=America/New_York:20190423T160000
DTEND;TZID=America/New_York:20190423T160000
DTSTAMP:20260422T050405
CREATED:20180816T213001Z
LAST-MODIFIED:20181107T210011Z
UID:2674-1556035200-1556035200@kleinhansbuffalo.org
SUMMARY:Juilliard Quartet
DESCRIPTION:With unparalleled artistry and enduring vigor\, the Juilliard String Quartet continues to inspire audiences around the world with its performances. Founded in 1946\, and widely known as “the quintessential American string quartet\,” the Juilliard draws on a deep and vital engagement with the classics\, while embracing the mission of championing new works – a vibrant combination of the familiar and the daring.  Each performance of the Juilliard Quartet is a unique experience\, bringing together the four members’ profound understanding\, total commitment\, and unceasing curiosity in sharing the wonders of the string quartet literature.  \nProgram\nBeethoven – Quartet in D major\, Op.18\, No.3\nLembit Beecher – New Work\nDvořák – Quartet in F major\, Op.96
URL:https://kleinhansbuffalo.org/event/juilliard-quartet/
LOCATION:Kleinhans Music Hall\, 3 Symphony Circle \,  Buffalo\, NY\, 14201\, United States
CATEGORIES:Buffalo Chamber Music Society
ATTACH;FMTTYPE=image/png:https://kleinhansbuffalo.org/wp-content/uploads/sites/2/2018/08/juilliard.jpg.png
GEO:42.9025038;-78.8817523
X-APPLE-STRUCTURED-LOCATION;VALUE=URI;X-ADDRESS=Kleinhans Music Hall 3 Symphony Circle   Buffalo NY 14201 United States;X-APPLE-RADIUS=500;X-TITLE=3 Symphony Circle:geo:-78.8817523,42.9025038
END:VEVENT
BEGIN:VEVENT
DTSTART;TZID=America/New_York:20190418T160000
DTEND;TZID=America/New_York:20190418T160000
DTSTAMP:20260422T050405
CREATED:20180926T214939Z
LAST-MODIFIED:20190313T203840Z
UID:2707-1555603200-1555603200@kleinhansbuffalo.org
SUMMARY:Babel: George Saunders
DESCRIPTION:George Saunders discusses his Man Booker Prize-winning novel\, “Lincoln in the Bardo.” \nDownload the Reader’s Guide to “Lincoln in the Bardo.” \nGEORGE SAUNDERS is the author of nine books\, including the novel Lincoln in the Bardo\, which won the Man Booker Prize\, and the story collections Pastoralia and Tenth of December\, which was a finalist for the National Book Award. He has received fellowships from the Lannan Foundation\, the American Academy of Arts and Letters\, and the Guggenheim Foundation. In 2006 he was awarded a MacArthur Fellowship. In 2013 he was awarded the PEN/Malamud Award for Excellence in Short Fiction and was included in Time’s list of the one hundred most influential people in the world. He teaches in the creative writing program at Syracuse University. (Photograph of George Saunders © Chloe Aftel)
URL:https://kleinhansbuffalo.org/event/babel-george-saunders/
LOCATION:Kleinhans Music Hall\, 3 Symphony Circle \,  Buffalo\, NY\, 14201\, United States
CATEGORIES:Featured,Just Buffalo's Babel Series
ATTACH;FMTTYPE=image/jpeg:https://kleinhansbuffalo.org/wp-content/uploads/sites/2/2018/09/George_Saunders_headshot_credit_Chloe-Aftel-e1552509507643.jpg
GEO:42.9025038;-78.8817523
X-APPLE-STRUCTURED-LOCATION;VALUE=URI;X-ADDRESS=Kleinhans Music Hall 3 Symphony Circle   Buffalo NY 14201 United States;X-APPLE-RADIUS=500;X-TITLE=3 Symphony Circle:geo:-78.8817523,42.9025038
END:VEVENT
BEGIN:VEVENT
DTSTART;TZID=America/New_York:20190409T150000
DTEND;TZID=America/New_York:20190409T150000
DTSTAMP:20260422T050405
CREATED:20181110T035842Z
LAST-MODIFIED:20190313T203717Z
UID:2803-1554822000-1554822000@kleinhansbuffalo.org
SUMMARY:TY Zhang: Poetry in Motion
DESCRIPTION:Audience favorite and second prize winner of the 2018 JoAnn Falletta International Guitar Concert Competition TY Zhang returns to Buffalo in Kleinhans Centerstage. Sit on the main stage of Kleinhans surrounding TY as he performs his “Poetry in Motion” program. TY was the 2017 winner of the Guitar Foundation  of American (GFA) International Concert Artists Competition in 2017\, which granted him the opportunity to give a 50-city tour. \nThe Kleinhans Centerstage series is sponsored by Hunt Property Management. \nProgram:\n\n\n\nRito de los Orishas\nII. Danza de las diosas negras\n Leo Brouwer b.1939\n\n\nJunto al Generalife from Tres piezas españolas\nI. Fandango\n Joaquín Rodrigo  1901-1999\n\n\nSchindler’s List (Arranged by T. Zhang)\nJohn Williams B.1932\n\n\nTwo Sonatas\nSonata K. 239 (Arr. S. Isbin & T. Zhang)\nSonata K. 53 (Arr. T. Zhang)\nDomenico Scarlatti 1685-1757\n\n\nFrom 24 Capriccios de Goya:\nNo. 18\, “El Sueño de la Razón Produce Monstruos”\nNo. 12\, “No Hubo Remedio”\nMario Castelnuovo-Tedesco  1895-1968\n\n\nPrimavera Porteña (Spring)\nAstor Piazzolla 1921-1992\n\n\nIntermission\n\n\n\nVariations on a Theme by Scriabin\nAlexandre Tansman\, 1897-1986\n\n\nHerjan\nCommissioned by The Augustine Foundation\nJeffrey Holmes\, b. 1971\n\n\nAquarelle\nII. Valseana\nIII. Preludio e Toccatina\nSergio Assad b. 1952\n\n\nViolin Partita No.2 in D minor\, BWV 1004\nChaconne (Arr. S. Isbin & T. Zhang)\nJ.S.Bach 1685-1750\n\n\nLibra Sonatine\nIII. Fuoco\nRoland Dyens\, 1955-2016\n\n\n\nHe has received First Prize in other top competitions as well in Austria\, China\, Russia and the U.S.\, including the GFA International Competition Senior Division\, Austria’s Forum Gitarre Wien International Youth Competition\, the Changsha International Guitar Competition\, the 2017 Schadt String Competition\, and the 2017 Alexander Frauchi International Competition in Moscow. \nTY has given recitals in Vienna\, Serbia\, China and the United States. His performance for the 2017 New York Guitar Festival was broadcast on WQXR radio. The GFA prize leads him on a concert tour starting in 2018 of over 50 cities in North America\, including his recital debut in Carnegie Weill Hall\, with additional dates in Europe\, South America and his native China. With the goal of sharing the love of music through guitar in every piece he plays\, TY’s concert repertoire is filled with diverse cross-genre music he loves. His debut CD was released on Naxos in June of 2018\, and includes works by Bach\, Scarlatti\, Brouwer\, Assad\, Tansman and Castelnuovo-Tedesco. \nTY was born in Hebei\, China. He began to study classical guitar at the age of five with his father. At seven\, he was introduced to Professor Chen Zhi with whom he studied at the Music School attached to the Central Conservatory of Music in Beijing. In 2012\, he was accepted into The Juilliard School undergraduate program\, and during his six years of study there with Sharon Isbin\, he received his Bachelor of Music in 2016\, and his Master of Music in 2018. TY enjoys road cycling\, surfing\, and traveling.
URL:https://kleinhansbuffalo.org/event/ty-zhang-poetry-in-motion/
LOCATION:Kleinhans Music Hall\, 3 Symphony Circle \,  Buffalo\, NY\, 14201\, United States
CATEGORIES:Featured
ATTACH;FMTTYPE=image/jpeg:https://kleinhansbuffalo.org/wp-content/uploads/sites/2/2018/11/tengyue_zhang_photo_5-e1552509421756.jpg
GEO:42.9025038;-78.8817523
X-APPLE-STRUCTURED-LOCATION;VALUE=URI;X-ADDRESS=Kleinhans Music Hall 3 Symphony Circle   Buffalo NY 14201 United States;X-APPLE-RADIUS=500;X-TITLE=3 Symphony Circle:geo:-78.8817523,42.9025038
END:VEVENT
BEGIN:VEVENT
DTSTART;TZID=America/New_York:20190326T150000
DTEND;TZID=America/New_York:20190326T150000
DTSTAMP:20260422T050405
CREATED:20190206T044829Z
LAST-MODIFIED:20190319T140306Z
UID:2865-1553612400-1553612400@kleinhansbuffalo.org
SUMMARY:Bach's Birthday Celebration
DESCRIPTION:Celebrate Bach’s birthday with a special concert experience! Sit on the stage of Kleinhans Music Hall for an up-close performance featuring musicians from the Buffalo Chamber Players and Dr. Abigail Rockwood Puehn performing on the newly-restored harpsichord. \nProgram:\nOrgan Sonata No. 2 in c minor\, BWV 526 (W.A. Mozart transcription)\nSonata for Viola da Gamba and Harpsichord in G Major\, BWV 1027\nBrandenburg Concerto No. 6 in B-flat major\, BWV 1051
URL:https://kleinhansbuffalo.org/event/bachs-birthday-celebration/
LOCATION:Kleinhans Music Hall\, 3 Symphony Circle \,  Buffalo\, NY\, 14201\, United States
CATEGORIES:Featured
ATTACH;FMTTYPE=image/jpeg:https://kleinhansbuffalo.org/wp-content/uploads/sites/2/2019/02/Buffalo-Chamber-Players-color-e1549410483389.jpg
GEO:42.9025038;-78.8817523
X-APPLE-STRUCTURED-LOCATION;VALUE=URI;X-ADDRESS=Kleinhans Music Hall 3 Symphony Circle   Buffalo NY 14201 United States;X-APPLE-RADIUS=500;X-TITLE=3 Symphony Circle:geo:-78.8817523,42.9025038
END:VEVENT
BEGIN:VEVENT
DTSTART;TZID=America/New_York:20190320T160000
DTEND;TZID=America/New_York:20190320T160000
DTSTAMP:20260422T050405
CREATED:20180926T214446Z
LAST-MODIFIED:20190218T210931Z
UID:2704-1553097600-1553097600@kleinhansbuffalo.org
SUMMARY:Babel: Min Jin Lee
DESCRIPTION:Min Jin Lee discusses her novel of a Korean family in Japan\, “Pachinko.” \nDownload the Reader’s Guide for “Pachinko.” \nMIN JIN LEE’s debut novel\, Free Food for Millionaires\, was one of the “Top 10 Novels of the Year” for The Times (London)\, NPR’s “Fresh Air” and USA Today. Her second novel\, Pachinko\, was a finalist for the National Book Award for Fiction in 2017 and was named one of the “Top Ten Books of the Year” by The New York Times. Her short fiction has been featured on NPR’s “Selected Shorts.” Her writings have appeared in The Times Literary Supplement\, Condé Nast Traveler\, The Times (London)\, Vogue\, Travel+Leisure\, Wall Street Journal\, New York Times Magazine and Food & Wine. Her essays and literary criticism have been anthologized widely. She served as a columnist for the Chosun Ilbo\, the leading paper of South Korea. (Photograph of Min Jin Lee © Elene Seibert)
URL:https://kleinhansbuffalo.org/event/minjinlee/
LOCATION:Kleinhans Music Hall\, 3 Symphony Circle \,  Buffalo\, NY\, 14201\, United States
CATEGORIES:Featured,Just Buffalo's Babel Series
ATTACH;FMTTYPE=image/jpeg:https://kleinhansbuffalo.org/wp-content/uploads/sites/2/2018/09/Min_Jin_Lee_credit_Elena_Seibert-e1550506165746.jpg
GEO:42.9025038;-78.8817523
X-APPLE-STRUCTURED-LOCATION;VALUE=URI;X-ADDRESS=Kleinhans Music Hall 3 Symphony Circle   Buffalo NY 14201 United States;X-APPLE-RADIUS=500;X-TITLE=3 Symphony Circle:geo:-78.8817523,42.9025038
END:VEVENT
END:VCALENDAR