BEGIN:VCALENDAR
VERSION:2.0
PRODID:-//Kleinhans Music Hall - ECPv6.15.20//NONSGML v1.0//EN
CALSCALE:GREGORIAN
METHOD:PUBLISH
X-ORIGINAL-URL:https://kleinhansbuffalo.org
X-WR-CALDESC:Events for Kleinhans Music Hall
REFRESH-INTERVAL;VALUE=DURATION:PT1H
X-Robots-Tag:noindex
X-PUBLISHED-TTL:PT1H
BEGIN:VTIMEZONE
TZID:America/New_York
BEGIN:DAYLIGHT
TZOFFSETFROM:-0500
TZOFFSETTO:-0400
TZNAME:EDT
DTSTART:20210314T070000
END:DAYLIGHT
BEGIN:STANDARD
TZOFFSETFROM:-0400
TZOFFSETTO:-0500
TZNAME:EST
DTSTART:20211107T060000
END:STANDARD
BEGIN:DAYLIGHT
TZOFFSETFROM:-0500
TZOFFSETTO:-0400
TZNAME:EDT
DTSTART:20220313T070000
END:DAYLIGHT
BEGIN:STANDARD
TZOFFSETFROM:-0400
TZOFFSETTO:-0500
TZNAME:EST
DTSTART:20221106T060000
END:STANDARD
BEGIN:DAYLIGHT
TZOFFSETFROM:-0500
TZOFFSETTO:-0400
TZNAME:EDT
DTSTART:20230312T070000
END:DAYLIGHT
BEGIN:STANDARD
TZOFFSETFROM:-0400
TZOFFSETTO:-0500
TZNAME:EST
DTSTART:20231105T060000
END:STANDARD
END:VTIMEZONE
BEGIN:VEVENT
DTSTART;TZID=America/New_York:20220220T170000
DTEND;TZID=America/New_York:20220220T170000
DTSTAMP:20260422T221003
CREATED:20210715T190007Z
LAST-MODIFIED:20220106T232635Z
UID:3763-1645376400-1645376400@kleinhansbuffalo.org
SUMMARY:Tom Segura: I'm Coming Everywhere - World Tour
DESCRIPTION:[vc_row][vc_column][vc_column_text]Kleinhans Music Hall welcomes Tom Segura on Sunday\, February 20\, 2022. \nActor/Comedian/Writer Tom Segura is one of the biggest names in the comedy business.  He recently performed to sold-out audiences on his 100+ city TAKE IT DOWN TOUR. He is best known for his Netflix specials\, Ball Hog (2020)\, Disgraceful (2018)\, Mostly Stories (2016)\, and Completely Normal (2014). Paste Magazine described him as\, “…having a natural and capable storytelling ability\, one that lifts his narratives out of average anecdote fare and plants them firmly in hilarious ground.” Your Mom’s House Studios is home to his hit podcasts Your Mom’s House which he co-hosts with his wife\, comedian Christina Pazsitzky\, 2 Bears 1 Cave which he co-hosts with Bert Kreischer\, and many more. Additionally\, YMH Studios was one of the first networks to create wildly successful Livestream Podcast Events as an outcome of the pandemic. \nSegura can be seen in the STX FILM COUNTDOWN opposite Elizabeth Lail\, INSTANT FAMILY opposite Mark Wahlberg and Rose Byrne\, OPENING ACT\, and FLINCH. Segura’s television credits include The Late Show with Stephen Colbert\, Conan\, Workaholics\, Happy Endings\, The Late Late Show\, Comedy Central Presents: Tom Segura\, Mash Up\, How To Be A Grown Up. \nSegura has an increasing social media following (@seguratom on IG\, @tomsegura on Twitter). When he isn’t performing on stage or recording a podcast he’s watching College Football or waiting for College Football to come back.[/vc_column_text][/vc_column][/vc_row]
URL:https://kleinhansbuffalo.org/event/tom-segura/
LOCATION:Kleinhans Music Hall\, 3 Symphony Circle \,  Buffalo\, NY\, 14201\, United States
CATEGORIES:Featured
ATTACH;FMTTYPE=image/jpeg:https://kleinhansbuffalo.org/wp-content/uploads/sites/2/2021/07/TR_TomSegura_National_SG_1080x1080.jpg
GEO:42.9025038;-78.8817523
X-APPLE-STRUCTURED-LOCATION;VALUE=URI;X-ADDRESS=Kleinhans Music Hall 3 Symphony Circle   Buffalo NY 14201 United States;X-APPLE-RADIUS=500;X-TITLE=3 Symphony Circle:geo:-78.8817523,42.9025038
END:VEVENT
END:VCALENDAR